BEGIN:VCALENDAR
PRODID:http://www.kufer.de/kuferweb / DE
VERSION:2.0
METHOD:PUBLISH
CALSCALE:GREGORIAN
BEGIN:VTIMEZONE
TZID:Europe/Berlin
X-LIC-LOCATION:Europe/Berlin
BEGIN:DAYLIGHT
TZOFFSETFROM:+0100
TZOFFSETTO:+0200
TZNAME:CEST
DTSTART:19700329T020000
RRULE:FREQ=YEARLY;INTERVAL=1;BYDAY=-1SU;BYMONTH=3
END:DAYLIGHT
BEGIN:STANDARD
TZOFFSETFROM:+0200
TZOFFSETTO:+0100
TZNAME:CET
DTSTART:19701025T030000
RRULE:FREQ=YEARLY;INTERVAL=1;BYDAY=-1SU;BYMONTH=10
END:STANDARD
END:VTIMEZONE
BEGIN:VEVENT
DTSTAMP:20260420T095939
DTSTART;TZID=Europe/Berlin:20260129T170000
DTEND;TZID=Europe/Berlin:20260129T180000
UID:26-1-30227-20260129T170000@VHSNEUWIED
SUMMARY:26-1-30227: Zumba® Fitness
LOCATION:vhs Hauptgebäude, 2. Etage, Raum 204
END:VEVENT
BEGIN:VEVENT
DTSTAMP:20260420T095939
DTSTART;TZID=Europe/Berlin:20260205T170000
DTEND;TZID=Europe/Berlin:20260205T180000
UID:26-1-30227-20260205T170000@VHSNEUWIED
SUMMARY:26-1-30227: Zumba® Fitness
LOCATION:vhs Hauptgebäude, 2. Etage, Raum 204
END:VEVENT
BEGIN:VEVENT
DTSTAMP:20260420T095939
DTSTART;TZID=Europe/Berlin:20260305T170000
DTEND;TZID=Europe/Berlin:20260305T180000
UID:26-1-30227-20260305T170000@VHSNEUWIED
SUMMARY:26-1-30227: Zumba® Fitness
LOCATION:vhs Hauptgebäude, 2. Etage, Raum 204
END:VEVENT
BEGIN:VEVENT
DTSTAMP:20260420T095939
DTSTART;TZID=Europe/Berlin:20260312T170000
DTEND;TZID=Europe/Berlin:20260312T180000
UID:26-1-30227-20260312T170000@VHSNEUWIED
SUMMARY:26-1-30227: Zumba® Fitness
LOCATION:vhs Hauptgebäude, 2. Etage, Raum 204
END:VEVENT
BEGIN:VEVENT
DTSTAMP:20260420T095939
DTSTART;TZID=Europe/Berlin:20260319T170000
DTEND;TZID=Europe/Berlin:20260319T180000
UID:26-1-30227-20260319T170000@VHSNEUWIED
SUMMARY:26-1-30227: Zumba® Fitness
LOCATION:vhs Hauptgebäude, 2. Etage, Raum 204
END:VEVENT
BEGIN:VEVENT
DTSTAMP:20260420T095939
DTSTART;TZID=Europe/Berlin:20260326T170000
DTEND;TZID=Europe/Berlin:20260326T180000
UID:26-1-30227-20260326T170000@VHSNEUWIED
SUMMARY:26-1-30227: Zumba® Fitness
LOCATION:vhs Hauptgebäude, 2. Etage, Raum 204
END:VEVENT
BEGIN:VEVENT
DTSTAMP:20260420T095939
DTSTART;TZID=Europe/Berlin:20260416T170000
DTEND;TZID=Europe/Berlin:20260416T180000
UID:26-1-30227-20260416T170000@VHSNEUWIED
SUMMARY:26-1-30227: Zumba® Fitness
LOCATION:vhs Hauptgebäude, 2. Etage, Raum 204
END:VEVENT
BEGIN:VEVENT
DTSTAMP:20260420T095939
DTSTART;TZID=Europe/Berlin:20260423T170000
DTEND;TZID=Europe/Berlin:20260423T180000
UID:26-1-30227-20260423T170000@VHSNEUWIED
SUMMARY:26-1-30227: Zumba® Fitness
LOCATION:vhs Hauptgebäude, 2. Etage, Raum 204
END:VEVENT
BEGIN:VEVENT
DTSTAMP:20260420T095939
DTSTART;TZID=Europe/Berlin:20260430T170000
DTEND;TZID=Europe/Berlin:20260430T180000
UID:26-1-30227-20260430T170000@VHSNEUWIED
SUMMARY:26-1-30227: Zumba® Fitness
LOCATION:vhs Hauptgebäude, 2. Etage, Raum 204
END:VEVENT
BEGIN:VEVENT
DTSTAMP:20260420T095939
DTSTART;TZID=Europe/Berlin:20260507T170000
DTEND;TZID=Europe/Berlin:20260507T180000
UID:26-1-30227-20260507T170000@VHSNEUWIED
SUMMARY:26-1-30227: Zumba® Fitness
LOCATION:vhs Hauptgebäude, 2. Etage, Raum 204
END:VEVENT
END:VCALENDAR